BEGIN:VCALENDAR
VERSION:2.0
PRODID:-//eventon.com NONSGML v1.0//EN
CALSCALE:GREGORIAN
METHOD:PUBLISH
BEGIN:VEVENT
UID:69ecc1d7d2b20
DTSTAMP:20260425T132959Z
DTSTART:20250703T183000Z
DTEND:20250703T220000Z
LOCATION:
SUMMARY:Speakeasy Conversation Club
DESCRIPTION:Tickets £5 wegottickets.com/event/665994/If you could speak a
 bout one subject that you are passionate about what would it be?Every month
 \,  three guest speakers talk on a topic close to their heart. It could be 
 on the arts\,  science or nature; about an abstract concept or a physical o
 bject of desire; a moment[..]\nhttps://cellarartsclub.com/events/speakeasy-
 conversation-club-42/
URL:https://cellarartsclub.com/events/speakeasy-conversation-club-42/
END:VEVENT
END:VCALENDAR