BEGIN:VCALENDAR
VERSION:2.0
PRODID:-//eventon.com NONSGML v1.0//EN
CALSCALE:GREGORIAN
METHOD:PUBLISH
BEGIN:VEVENT
UID:69ed7423b7953
DTSTAMP:20260426T021043Z
DTSTART:20250605T183000Z
DTEND:20250605T220000Z
LOCATION:
SUMMARY:Speakeasy Conversation Club
DESCRIPTION:If you could speak about one subject that you are passionate ab
 out what would it be?Every month\,  three guest speakers talk on a topic cl
 ose to their heart. It could be on the arts\,  science or nature; about an 
 abstract concept or a physical object of desire; a moment in[..]\nhttps://c
 ellarartsclub.com/events/speakeasy-conversation-club-41/
URL:https://cellarartsclub.com/events/speakeasy-conversation-club-41/
END:VEVENT
END:VCALENDAR