BEGIN:VCALENDAR
VERSION:2.0
PRODID:-//eventon.com NONSGML v1.0//EN
CALSCALE:GREGORIAN
METHOD:PUBLISH
BEGIN:VEVENT
UID:69ea44a246bd9
DTSTAMP:20260423T161114Z
DTSTART:20250418T183000Z
DTEND:20250418T230000Z
LOCATION:
SUMMARY:Rob Clamp & The Ashmen live
DESCRIPTION:Having supported the likes of Frank Turner\,  James Walsh (Star
 sailor) and The Bluetones\,  Rob Clamp is making a name for himself as a dy
 namic and captivating performer. Hailing from Southampton\,  Rob has been f
 eatured on BBC introducing\,  has won the highly regarded Purbeck Rising aw
 ard\,  imprinting himself onto the UK[..]\nhttps://cellarartsclub.com/event
 s/rob-clamp-the-ashmen-live-support/
URL:https://cellarartsclub.com/events/rob-clamp-the-ashmen-live-support/
END:VEVENT
END:VCALENDAR