BEGIN:VCALENDAR
VERSION:2.0
PRODID:-//eventon.com NONSGML v1.0//EN
CALSCALE:GREGORIAN
METHOD:PUBLISH
BEGIN:VEVENT
UID:69eaceb330702
DTSTAMP:20260424T020019Z
DTSTART:20250412T183000Z
DTEND:20250412T230000Z
LOCATION:Cellar Arts Club Cellar Arts Club
SUMMARY:Radio 4A at the Cellar
DESCRIPTION:Brighton&#8217;s very own pirate DJ collective\,  Radio4A\,  re
 turn to the Cellar Arts Club for a night of booty-shaking fun.#house #techn
 o #soul #disco #boogie #breakbeat #breaks #synthpop #wave #italo #acid #fun
 k #dub #protohouse #funk #soulmusic #rap #rave #electro #indie #nowave #pun
 kfunk #streetsoul FREE on the door\nhttps://cellarartsclub.com/events/radio
 -4a-at-the-cellar-4/
URL:https://cellarartsclub.com/events/radio-4a-at-the-cellar-4/
END:VEVENT
END:VCALENDAR