BEGIN:VCALENDAR
VERSION:2.0
PRODID:-//eventon.com NONSGML v1.0//EN
CALSCALE:GREGORIAN
METHOD:PUBLISH
BEGIN:VEVENT
UID:69eb3d9555995
DTSTAMP:20260424T095325Z
DTSTART:20241027T160000Z
DTEND:20241027T210000Z
LOCATION:
SUMMARY:Punkish/Noisish: Darkfest Special
DESCRIPTION:The alternative to the alternative of every alternative. Local 
 alt-culture mainstay Kev Hough presents Worthing&#8217;s live underground S
 unday event in all its glory. A great afternoon of the unexpected\,  the pr
 ovocative\,  the searingly strange and the genuinely awesome. Line-up TBA (
 probably at the very last minute!) but always worth a[..]\nhttps://cellarar
 tsclub.com/events/punkish-noisish-darkfest-special/
URL:https://cellarartsclub.com/events/punkish-noisish-darkfest-special/
END:VEVENT
END:VCALENDAR