BEGIN:VCALENDAR
VERSION:2.0
PRODID:-//eventon.com NONSGML v1.0//EN
CALSCALE:GREGORIAN
METHOD:PUBLISH
BEGIN:VEVENT
UID:69ea87387874c
DTSTAMP:20260423T205520Z
DTSTART:20241026T180000Z
DTEND:20241026T190000Z
LOCATION:
SUMMARY:Wrestling with Shakespeare - Ariel v Caliban
DESCRIPTION:Darkfest by arrangement with WWS presents: A W KING and CARL AN
 DERSON in &#8220;ARIEL V CALIBAN&#8221; a Play. £5 &#8220;Absurdist/ Class
 ical Tag-team Tempest.&#8221;King&#8217;s surrealist adaption in progress o
 f Shakepeare&#8217;s final work. Followed by &#8220;The Snakepit &#8211; Da
 rkfest Special&#8221;TICKETS:  https://www.eventbrite.co.uk/e/wrestling-w
 ith-shakespeare-ariel-v-caliban-tickets-1039386331497\nhttps://cellarartscl
 ub.com/events/wrestling-with-shakespeare-ariel-v-caliban/
URL:https://cellarartsclub.com/events/wrestling-with-shakespeare-ariel-v-caliban/
END:VEVENT
END:VCALENDAR