BEGIN:VCALENDAR
VERSION:2.0
PRODID:-//eventon.com NONSGML v1.0//EN
CALSCALE:GREGORIAN
METHOD:PUBLISH
BEGIN:VEVENT
UID:69ebf8eb57476
DTSTAMP:20260424T231243Z
DTSTART:20240418T183000Z
DTEND:20240418T213000Z
LOCATION:
SUMMARY:Worthing Comedy Cellar
DESCRIPTION:Behind the Wizard Comedy presents a selection of the finest upc
 oming comedians on the South Coast! Make sure to catch them before they get
  famous!Doors open 7:30Show Starts 8pmTickets: https://www.wegottickets.com
 /event/613792\nhttps://cellarartsclub.com/events/worthing-comedy-cellar-2/
URL:https://cellarartsclub.com/events/worthing-comedy-cellar-2/
END:VEVENT
END:VCALENDAR