BEGIN:VCALENDAR
VERSION:2.0
PRODID:-//eventon.com NONSGML v1.0//EN
CALSCALE:GREGORIAN
METHOD:PUBLISH
BEGIN:VEVENT
UID:69ebd546ca890
DTSTAMP:20260424T204038Z
DTSTART:20230617T190000Z
DTEND:20230617T233000Z
LOCATION:
SUMMARY:WORTHING FESTVAL: Moonya (live)
DESCRIPTION:Following her sold-out show in January\,  Moonya returns to the
  Cellar! She&#8217;s a one-woman French phenomenon delivering “lunar and 
 aerial pop music” via loops\,  electronic drum pad\,  guitar\,  and voice
 . With three EPs under her belt\,  she’s now on a European tour promoting
  her forthcoming debut album\,  and hitting the[..]\nhttps://cellarartsclub
 .com/events/worthing-festval-moonya-live/
URL:https://cellarartsclub.com/events/worthing-festval-moonya-live/
END:VEVENT
END:VCALENDAR