BEGIN:VCALENDAR
VERSION:2.0
PRODID:-//eventon.com NONSGML v1.0//EN
CALSCALE:GREGORIAN
METHOD:PUBLISH
BEGIN:VEVENT
UID:69e5f85755ef5
DTSTAMP:20260420T095639Z
DTSTART:20230428T183000Z
DTEND:20230428T230000Z
LOCATION:
SUMMARY:The Stash
DESCRIPTION:Join us for a night of fuzz on 28th April @cellarartsclub . Ang
 st ridden dirty rock and roll all on vinyl\,  played out to a backdrop of g
 roovy projections. Expect Stooges\,  MC5\,  Electric Prunes\,  Seeds\,  Cou
 nt 5\,  Them\,  Sonics\,  Kinks\,  Pretty Things\,  Velvets and loads more.
  Free Admission!FREE ENTRY\nhttps://cellarartsclub.com/events/the-stash-3/
URL:https://cellarartsclub.com/events/the-stash-3/
END:VEVENT
END:VCALENDAR