BEGIN:VCALENDAR
VERSION:2.0
PRODID:-//eventon.com NONSGML v1.0//EN
CALSCALE:GREGORIAN
METHOD:PUBLISH
BEGIN:VEVENT
UID:69e83687dff37
DTSTAMP:20260422T024631Z
DTSTART:20230304T193000Z
DTEND:20230305T000000Z
LOCATION:
SUMMARY:Reggae Night
DESCRIPTION:This is always one of the Cellar Arts Club&#8217;s most popular
  events. Full details usually appear here a week or two beforehand\,  but i
 f you like classic reggae and ska\,  it&#8217;s THE place. Get there early 
 to avoid disappointment. This event sometimes sells out.FREE ENTRY\nhttps:/
 /cellarartsclub.com/events/reggae-night-10/
URL:https://cellarartsclub.com/events/reggae-night-10/
END:VEVENT
END:VCALENDAR