BEGIN:VCALENDAR
VERSION:2.0
PRODID:-//eventon.com NONSGML v1.0//EN
CALSCALE:GREGORIAN
METHOD:PUBLISH
BEGIN:VEVENT
UID:69e5e8c5c9237
DTSTAMP:20260420T085013Z
DTSTART:20230208T190000Z
DTEND:20230208T203000Z
LOCATION:
SUMMARY:Life Drawing
DESCRIPTION:This is a relaxed untutored life drawing class for experienced 
 artists or anyone that just loves to draw and wants to have ago. Come along
 \,  have a sociable drink and draw with us. We have a selection of paper an
 d materials but feel free to bring any of your own[..]\nhttps://cellarartsc
 lub.com/events/life-drawing-7/
URL:https://cellarartsclub.com/events/life-drawing-7/
END:VEVENT
END:VCALENDAR