BEGIN:VCALENDAR
VERSION:2.0
PRODID:-//eventon.com NONSGML v1.0//EN
CALSCALE:GREGORIAN
METHOD:PUBLISH
BEGIN:VEVENT
UID:69ec130a39a57
DTSTAMP:20260425T010410Z
DTSTART:20221217T183000Z
DTEND:20221217T193000Z
LOCATION:
SUMMARY:Bambi Goodman Closing Party
DESCRIPTION:Closing party for artist Bambi Goodman whose work has adorned t
 he walls these last three months. Do come and have a glass of wine.\nhttps:
 //cellarartsclub.com/events/bambi-goodman-closing-party/
URL:https://cellarartsclub.com/events/bambi-goodman-closing-party/
END:VEVENT
END:VCALENDAR