BEGIN:VCALENDAR
VERSION:2.0
PRODID:-//eventon.com NONSGML v1.0//EN
CALSCALE:GREGORIAN
METHOD:PUBLISH
BEGIN:VEVENT
UID:69ec1f0f0f630
DTSTAMP:20260425T015527Z
DTSTART:20221112T193000Z
DTEND:20221113T020000Z
LOCATION:
SUMMARY:Downstairs to Dance
DESCRIPTION:Back for some more of the good stuff&#8230; House &amp; Garage 
 Vinyl and Digital Intimate venue with nice sound and very reasonable bar.. 
 Tickets here: https://www.eventbrite.co.uk/e/downstairs-to-dance-late-night
 -special-tickets-431141444667   DJ&#8217;s Shelley Stafford &amp; Norman
  Murchie are back at the lovely and unique Cellar Arts Club for another nig
 ht of uplifting\,  funky and underground Garage[..]\nhttps://cellarartsclub
 .com/events/downstairs-to-dance-7/
URL:https://cellarartsclub.com/events/downstairs-to-dance-7/
END:VEVENT
END:VCALENDAR