BEGIN:VCALENDAR
VERSION:2.0
PRODID:-//eventon.com NONSGML v1.0//EN
CALSCALE:GREGORIAN
METHOD:PUBLISH
BEGIN:VEVENT
UID:69e5e8dbace92
DTSTAMP:20260420T085035Z
DTSTART:20220812T183000Z
DTEND:20220812T230000Z
LOCATION:
SUMMARY:Pogo Agogo
DESCRIPTION:Instant Mash DJs return to the Cellar\,  for another night of n
 ew wave\,  indie and electronic classics. Thinking\,  The Cure\,  The Jam\,
   Talking Heads\,  Kraftwerk\,  Pixies\,  B52s\,  The Police\,  Soft Cell\,
   The Clash\,  Marley\,  Murvin\,  Echo and the Bunnymen\,  Jesus and Mary 
 Chain\,  Damned\,  Depeche Mode\,  Blondie\,  New Order and[..]\nhttps://ce
 llarartsclub.com/events/pogo-agogo-5/
URL:https://cellarartsclub.com/events/pogo-agogo-5/
END:VEVENT
END:VCALENDAR