BEGIN:VCALENDAR
VERSION:2.0
PRODID:-//eventon.com NONSGML v1.0//EN
CALSCALE:GREGORIAN
METHOD:PUBLISH
BEGIN:VEVENT
UID:69e83700313ff
DTSTAMP:20260422T024832Z
DTSTART:20220408T183000Z
DTEND:20220408T230000Z
LOCATION:
SUMMARY:Cablesalad
DESCRIPTION:Cablesalad bring their multi-instrumentalists electronic stew t
 o the cellar with DJ back. They are producers who love creating space and b
 uilding rich\,  electronic loops out of thin air. They’re delighted to pr
 esent two sets of satisfying inspiration on a synth\,  loopstation\,  guita
 r\,  drum machine\,  and bass before your very eyes.There&#8217;ll[..]\nhtt
 ps://cellarartsclub.com/events/cablesalad/
URL:https://cellarartsclub.com/events/cablesalad/
END:VEVENT
END:VCALENDAR