BEGIN:VCALENDAR
VERSION:2.0
PRODID:-//eventon.com NONSGML v1.0//EN
CALSCALE:GREGORIAN
METHOD:PUBLISH
BEGIN:VEVENT
UID:69e7fd824af40
DTSTAMP:20260421T224314Z
DTSTART:20220225T193000Z
DTEND:20220226T000000Z
LOCATION:
SUMMARY:Cantina
DESCRIPTION:Cantina is back and hot hot hot! Dj&#8217;s Rowando\,  Fantasti
 cman and Paul De Muth will be selecting killer vinyl cuts from West Africa\
 ,  Brazil\,  Cuba\,  Jamaica\,  Mexico and Beyond! Expect sizzling samba\, 
  tropical funk\,  psychedelic latin rock\,  high life\,  reggae\,  afrobeat
  and the funkiest\,  afro disco this side of Lagos.FREE[..]\nhttps://cellar
 artsclub.com/events/cantina/
URL:https://cellarartsclub.com/events/cantina/
END:VEVENT
END:VCALENDAR