BEGIN:VCALENDAR
VERSION:2.0
PRODID:-//eventon.com NONSGML v1.0//EN
CALSCALE:GREGORIAN
METHOD:PUBLISH
BEGIN:VEVENT
UID:69eb38c956f95
DTSTAMP:20260424T093257Z
DTSTART:20220115T193000Z
DTEND:20220115T235900Z
LOCATION:
SUMMARY:F**k Dry January
DESCRIPTION:F**k Dry January returns for the first time since 2020. January
  is the grimmest month of the year so the last thing DJ Caspar Gomez believ
 es we should be doing is making it worse by staying sober. For those who fe
 el the same\,  F**k Dry January is a night of[..]\nhttps://cellarartsclub.c
 om/events/fk-dry-january-2/
URL:https://cellarartsclub.com/events/fk-dry-january-2/
END:VEVENT
END:VCALENDAR