BEGIN:VCALENDAR
VERSION:2.0
PRODID:-//eventon.com NONSGML v1.0//EN
CALSCALE:GREGORIAN
METHOD:PUBLISH
BEGIN:VEVENT
UID:69ed413a65a5a
DTSTAMP:20260425T223330Z
DTSTART:20211210T193000Z
DTEND:20211211T000000Z
LOCATION:
SUMMARY:Downstairs to Dance
DESCRIPTION:DJ&#8217;s Shelley Stafford &amp; Norman Murchie are back at th
 e lovely and unique Cellar Arts Club for another night of uplifting\,  funk
 y and underground Garage &amp; House (with a splash of 90&#8217;s classics)
  Tickets £5 non-members £4- members Available from: https://www.eventbrit
 e.co.uk/e/downstairs-2-dance-tickets-206669131937?fbclid=IwAR2rz4C0r04wll9O
 Xu_UglOL_Wnvl7Qmef7AVdOqj4sIQH3kJGVaqkZ6M4g\nhttps://cellarartsclub.com/eve
 nts/downstairs-to-dance-2/
URL:https://cellarartsclub.com/events/downstairs-to-dance-2/
END:VEVENT
END:VCALENDAR