BEGIN:VCALENDAR
VERSION:2.0
PRODID:-//eventon.com NONSGML v1.0//EN
CALSCALE:GREGORIAN
METHOD:PUBLISH
BEGIN:VEVENT
UID:69ed5b38b9b72
DTSTAMP:20260426T002424Z
DTSTART:20210926T140000Z
DTEND:20210926T170000Z
LOCATION:
SUMMARY:Theatre Trail
DESCRIPTION:4pm. Southwick Players perform 2 short plays &#8216;The Proper 
 Charlie&#8217; and &#8216;The Challenge&#8217; 5pm. Quintessential Players 
 perform Harold Pinter&#8217;s classic play &#8216;The Dumb Waiter&#8217;\nh
 ttps://cellarartsclub.com/events/theatre-trail-2/
URL:https://cellarartsclub.com/events/theatre-trail-2/
END:VEVENT
END:VCALENDAR