BEGIN:VCALENDAR
VERSION:2.0
PRODID:-//eventon.com NONSGML v1.0//EN
CALSCALE:GREGORIAN
METHOD:PUBLISH
BEGIN:VEVENT
UID:69e5e8c5c8746
DTSTAMP:20260420T085013Z
DTSTART:20210828T130000Z
DTEND:20210829T010000Z
LOCATION:
SUMMARY:Get Up - Stand Up!
DESCRIPTION:Saturday\,  the 28th of August 2021. 12 to 12 Street Party at t
 he Cellar Arts Club &#8211; Prospect Place. GET UP &#8211; STAND UP! Worthi
 ng &#8211; We Are One &#8211; We Love Music &#8211; We Hate Racism. Come an
 d join us and celebrate where black music started\,  to where it[..]\nhttps
 ://cellarartsclub.com/events/get-up-stand-up/
URL:https://cellarartsclub.com/events/get-up-stand-up/
END:VEVENT
END:VCALENDAR