BEGIN:VCALENDAR
VERSION:2.0
PRODID:-//eventon.com NONSGML v1.0//EN
CALSCALE:GREGORIAN
METHOD:PUBLISH
BEGIN:VEVENT
UID:69ebdb849b0bd
DTSTAMP:20260424T210716Z
DTSTART:20191207T193000Z
DTEND:20191207T235000Z
LOCATION:
SUMMARY:Off The Beaten Track
DESCRIPTION:Elliot &#8216;Lobo&#8217; Jones&#8217;s night. Come on now! Joi
 n us for a night of stomping\,  hip shakin’\,  and angsty 60s Beat\,  Rhy
 thm &amp; Blues and Rock ‘N’ Roll. Expect to hear both rare and crowd p
 leasing sounds from groups such as The Rolling Stones\,  The Kinks\,  The P
 retty Things\,  Downliners Sect[..]\nhttps://cellarartsclub.com/events/off-
 the-beaten-track-2/
URL:https://cellarartsclub.com/events/off-the-beaten-track-2/
END:VEVENT
END:VCALENDAR