BEGIN:VCALENDAR
VERSION:2.0
PRODID:-//eventon.com NONSGML v1.0//EN
CALSCALE:GREGORIAN
METHOD:PUBLISH
BEGIN:VEVENT
UID:69e79028a39cb
DTSTAMP:20260421T145640Z
DTSTART:20191102T200000Z
DTEND:20191103T000000Z
LOCATION:
SUMMARY:Dance Control
DESCRIPTION:Italo / Cosmic Disco / Minimal Wave / Electro dance party with 
 Scotland Yard and DJ Bunnyhausen\nhttps://cellarartsclub.com/events/dance-c
 ontrol/
URL:https://cellarartsclub.com/events/dance-control/
END:VEVENT
END:VCALENDAR