BEGIN:VCALENDAR
VERSION:2.0
PRODID:-//eventon.com NONSGML v1.0//EN
CALSCALE:GREGORIAN
METHOD:PUBLISH
BEGIN:VEVENT
UID:69e867fe6dedd
DTSTAMP:20260422T061734Z
DTSTART:20191030T193000Z
DTEND:20191030T233000Z
LOCATION:
SUMMARY:Worthing Storytellers - Tales With Teeth
DESCRIPTION:Worthing Storytellers &#8211; Tales With Teeth Thursday 30th Oc
 tober from 7.30pm A night of stories to rattle your bones and chill your bl
 ood. Gather around by candle light for traditional tales of ghosts\,  ghoul
 s and unspeakable horrors. Not for the faint-hearted! Doors open at 7:30. T
 ickets £5 (£3 for Cellar[..]\nhttps://cellarartsclub.com/events/worthing-
 storytellers-tales-with-teeth/
URL:https://cellarartsclub.com/events/worthing-storytellers-tales-with-teeth/
END:VEVENT
END:VCALENDAR