BEGIN:VCALENDAR
VERSION:2.0
PRODID:-//eventon.com NONSGML v1.0//EN
CALSCALE:GREGORIAN
METHOD:PUBLISH
BEGIN:VEVENT
UID:69e5e8273432a
DTSTAMP:20260420T084735Z
DTSTART:20190922T140000Z
DTEND:20190922T170000Z
LOCATION:
SUMMARY:Worthing Theatre Trail
DESCRIPTION:FREE ENTRY!Worthing Theatre Trail @ The Cellar Arts Club Saturd
 ay 21st September17.00hrs &#8211; Chocks Away18.00hrs &#8211; Southwick Pla
 yers Sunday 22nd September &#8211; Doors 3pm16.00hrs &#8211; The WarriorsSa
 turday 28th September17.00hrs &#8211; Stoney Players Theatre Group18.00hrs 
 &#8211; WIMPS Sunday 29th September16.00hrs &#8211; Identity Theatre Compan
 y www.worthingtheatretrail.co.uk\nhttps://cellarartsclub.com/events/worthin
 g-theatre-trail-2/
URL:https://cellarartsclub.com/events/worthing-theatre-trail-2/
END:VEVENT
END:VCALENDAR