BEGIN:VCALENDAR
VERSION:2.0
PRODID:-//eventon.com NONSGML v1.0//EN
CALSCALE:GREGORIAN
METHOD:PUBLISH
BEGIN:VEVENT
UID:69e4da42127fd
DTSTAMP:20260419T133602Z
DTSTART:20190913T183000Z
DTEND:20190913T225000Z
LOCATION:
SUMMARY:Hip Drop
DESCRIPTION:The Hip Drop heads\,  BIG GEE and JONNY BEAULAXE make their Cel
 lar Arts debut with a night of shenanigans featuring the finest slices of s
 oul\,  funk\,  ska\,  musical mayhem and good times vibes &#8230; get on bo
 ard! Members Free / Non Members £2\nhttps://cellarartsclub.com/events/hip-
 drop/
URL:https://cellarartsclub.com/events/hip-drop/
END:VEVENT
END:VCALENDAR