BEGIN:VCALENDAR
VERSION:2.0
PRODID:-//eventon.com NONSGML v1.0//EN
CALSCALE:GREGORIAN
METHOD:PUBLISH
BEGIN:VEVENT
UID:69e8a1cf04b0f
DTSTAMP:20260422T102415Z
DTSTART:20190816T183000Z
DTEND:20190816T230000Z
LOCATION:
SUMMARY:Venus and Mars Rock Show
DESCRIPTION:&#8216;Venus and Mars Rock Show&#8217; is a duo; guitar and bas
 s\,  2 voices\,  lots of harmonies\,  duets and backing vocals. Material is
  a mixture of oldies\,  newies\,  and some original songs; relaxed and inte
 resting\,  we&#8217;re not trying to do hard rock!\nhttps://cellarartsclub.
 com/events/venus-and-mars-rock-show/
URL:https://cellarartsclub.com/events/venus-and-mars-rock-show/
END:VEVENT
END:VCALENDAR