BEGIN:VCALENDAR
VERSION:2.0
PRODID:-//eventon.com NONSGML v1.0//EN
CALSCALE:GREGORIAN
METHOD:PUBLISH
BEGIN:VEVENT
UID:69e7493db30b1
DTSTAMP:20260421T095405Z
DTSTART:20190726T183000Z
DTEND:20190726T230000Z
LOCATION:
SUMMARY:The Steyne Gang
DESCRIPTION:&#8220;The Steyne Gang&#8221; have developed from a group of mu
 sicians who have met regularly to play at the annual August charity event i
 n The Steyne Gardens\,  Worthing. Following their success at this event\,  
 David (Guitar\,  Bottleneck Guitar\,  Lap Style Slide Guitar and Vocals) ha
 s been asked if the band could[..]\nhttps://cellarartsclub.com/events/the-s
 teyne-gang/
URL:https://cellarartsclub.com/events/the-steyne-gang/
END:VEVENT
END:VCALENDAR