BEGIN:VCALENDAR
VERSION:2.0
PRODID:-//eventon.com NONSGML v1.0//EN
CALSCALE:GREGORIAN
METHOD:PUBLISH
BEGIN:VEVENT
UID:69e7487e4a104
DTSTAMP:20260421T095054Z
DTSTART:20190706T120000Z
DTEND:20190706T170000Z
LOCATION:
SUMMARY:Summer Busk
DESCRIPTION:The annual Summer Busk is an incredible day of live music and p
 erformers all day long throughout Worthing town centre. As part of Turning 
 Tides annual flag day the Summer Busk was created and is back for it’s 18
 th year of awareness and fundraising. Proud to be expanding this year[..]\n
 https://cellarartsclub.com/events/summer-busk/
URL:https://cellarartsclub.com/events/summer-busk/
END:VEVENT
END:VCALENDAR