BEGIN:VCALENDAR
VERSION:2.0
PRODID:-//eventon.com NONSGML v1.0//EN
CALSCALE:GREGORIAN
METHOD:PUBLISH
BEGIN:VEVENT
UID:69e603832062b
DTSTAMP:20260420T104419Z
DTSTART:20190615T190000Z
DTEND:20190615T230000Z
LOCATION:
SUMMARY:Infrasonic: A Dance Music Adventure
DESCRIPTION:In a change of lineup DJ Lula will be joined in the bathosphere
  by Deck Wizard Alex Downey for an evening of dubbed out electronix\,  abst
 ract tech funk &amp; deeper shades of techno.\nhttps://cellarartsclub.com/e
 vents/infrasonic-a-dance-music-adventure/
URL:https://cellarartsclub.com/events/infrasonic-a-dance-music-adventure/
END:VEVENT
END:VCALENDAR