BEGIN:VCALENDAR
VERSION:2.0
PRODID:-//eventon.com NONSGML v1.0//EN
CALSCALE:GREGORIAN
METHOD:PUBLISH
BEGIN:VEVENT
UID:69e5f8b4528da
DTSTAMP:20260420T095812Z
DTSTART:20190519T140000Z
DTEND:20190519T190000Z
LOCATION:
SUMMARY:Moonlight Parade - Live
DESCRIPTION:Worthing band Moonlight Parade formed last year\,  three old fr
 iends whom had drifted apart but joined forces after nearly 15 years to red
 iscover playing music again. Out of the jams\,  songs quickly came together
 . Their self-produced\,  self-released debut album (Out of Nothing) surface
 d in Autumn 2018\,  receiving a warm reception[..]\nhttps://cellarartsclub.
 com/events/moonlight-parade-live/
URL:https://cellarartsclub.com/events/moonlight-parade-live/
END:VEVENT
END:VCALENDAR