BEGIN:VCALENDAR
VERSION:2.0
PRODID:-//eventon.com NONSGML v1.0//EN
CALSCALE:GREGORIAN
METHOD:PUBLISH
BEGIN:VEVENT
UID:69e8d183c3c78
DTSTAMP:20260422T134747Z
DTSTART:20190421T130000Z
DTEND:20190421T160000Z
LOCATION:
SUMMARY:LGBTQ+ Meet Up
DESCRIPTION:Sunday afternoon LGBTQ Meet-Up All welcome! Come a long to our 
 meet-up for a chat and a drink 🙂 Cellar Arts Club\nhttps://cellarartsclu
 b.com/events/lgbtq-meet-up-2/
URL:https://cellarartsclub.com/events/lgbtq-meet-up-2/
END:VEVENT
END:VCALENDAR