BEGIN:VCALENDAR
VERSION:2.0
PRODID:-//eventon.com NONSGML v1.0//EN
CALSCALE:GREGORIAN
METHOD:PUBLISH
BEGIN:VEVENT
UID:69eb73e868d30
DTSTAMP:20260424T134512Z
DTSTART:20190420T183000Z
DTEND:20190420T225900Z
LOCATION:
SUMMARY:Rapture 78 - 91
DESCRIPTION:RAPTURE &#8211; 78-91 Saturday 20th April at The Cellar! A spec
 ial edition of the ebullient club night Rapture featuring all female-inspir
 ed tracks from 1978 &#8211; 1991 (the &#8217;80s +!) with DJ Jess (Safety S
 pin) leading the charge\,  as ever.\nhttps://cellarartsclub.com/events/rapt
 ure-78-91/
URL:https://cellarartsclub.com/events/rapture-78-91/
END:VEVENT
END:VCALENDAR