BEGIN:VCALENDAR
VERSION:2.0
PRODID:-//eventon.com NONSGML v1.0//EN
CALSCALE:GREGORIAN
METHOD:PUBLISH
BEGIN:VEVENT
UID:69e88c5f97b50
DTSTAMP:20260422T085247Z
DTSTART:20190223T200000Z
DTEND:20190224T000000Z
LOCATION:
SUMMARY:DJ Night - Motown Vs Island Records
DESCRIPTION:SATURDAY 23rd FEBRUARY at The Cellar Arts Club DJ Night &#8211;
  Motown Vs Island Records Two Iconic Labels &#8211; Many Genres &#8211; 60 
 Years of Grooves Free entry for members\,  £2 non-members\,  £1 students 
 Hey Mr DJ!\nhttps://cellarartsclub.com/events/dj-night-motown-vs-island-rec
 ords/
URL:https://cellarartsclub.com/events/dj-night-motown-vs-island-records/
END:VEVENT
END:VCALENDAR