BEGIN:VCALENDAR
VERSION:2.0
PRODID:-//eventon.com NONSGML v1.0//EN
CALSCALE:GREGORIAN
METHOD:PUBLISH
BEGIN:VEVENT
UID:69e7865384749
DTSTAMP:20260421T141443Z
DTSTART:20250509T183000Z
DTEND:20250509T230000Z
LOCATION:
SUMMARY:Gwenifer Raymond\,  Linden Pomeroy + DJ Lula Frango
DESCRIPTION:DisConcert Presents&#8230; Gwenifer Raymond live at Cellar Arts
  Club GWENIFER RAYMOND ‘She is legion. This Welsh musician plays really l
 oud and really fast too\,  like a vengeful bluegrass musician conjuring up 
 roiling fury\,  then dropping into languorous eddies\,  switching between p
 aces with pin-sharp precision.’  The Guardian Gwenifer Raymond  began p
 laying[..]\nhttps://cellarartsclub.com/events/gwenifer-raymond-linden-pomer
 oy-dj-lula-frango/
URL:https://cellarartsclub.com/events/gwenifer-raymond-linden-pomeroy-dj-lula-frango/
END:VEVENT
END:VCALENDAR