BEGIN:VCALENDAR
VERSION:2.0
PRODID:-//eventon.com NONSGML v1.0//EN
CALSCALE:GREGORIAN
METHOD:PUBLISH
BEGIN:VEVENT
UID:69ec286d96bbc
DTSTAMP:20260425T023525Z
DTSTART:20250322T193000Z
DTEND:20250323T000000Z
LOCATION:
SUMMARY:Cantina
DESCRIPTION:Cantina is back and it&#8217;s hot hot hot! DJ Rowando and frie
 nds will be selecting killer vinyl cuts from West Africa\,  Brazil\,  Cuba\
 ,  Jamaica\,  Mexico and Beyond! Expect sizzling samba\,  tropical funk\,  
 psychedelic latin rock\,  high life\,  reggae\,  afrobeat and the funkiest\
 ,  afro disco this side of Lagos.FREE ENTRY. \nhttps://cellarartsclub.com/
 events/cantina-2/
URL:https://cellarartsclub.com/events/cantina-2/
END:VEVENT
END:VCALENDAR