BEGIN:VCALENDAR
VERSION:2.0
PRODID:-//eventon.com NONSGML v1.0//EN
CALSCALE:GREGORIAN
METHOD:PUBLISH
BEGIN:VEVENT
UID:69eb8ee5da607
DTSTAMP:20260424T154021Z
DTSTART:20250314T193000Z
DTEND:20250315T000000Z
LOCATION:
SUMMARY:Express: Disco/Funk 1974 - 1979
DESCRIPTION:A night capturing the spirit of legendary New York Club &#8216;
 Studio 54&#8217;\,  playing the very best of Disco and Funk from the 1970&#
 8217;s. Yes there will be chart classics you know &amp; love\,  but also gr
 eat dance grooves and underground gems that may not have entered your consc
 iousness.Expect to hear[..]\nhttps://cellarartsclub.com/events/express-disc
 o-funk-1974-1979-3/
URL:https://cellarartsclub.com/events/express-disco-funk-1974-1979-3/
END:VEVENT
END:VCALENDAR