BEGIN:VCALENDAR
VERSION:2.0
PRODID:-//eventon.com NONSGML v1.0//EN
CALSCALE:GREGORIAN
METHOD:PUBLISH
BEGIN:VEVENT
UID:69e5e72076a21
DTSTAMP:20260420T084312Z
DTSTART:20250613T193000Z
DTEND:20250614T000000Z
LOCATION:
SUMMARY:The Snakepit
DESCRIPTION:Worthing&#8217;s well-loved goth mecca. Expect to hear the very
  best goth and darkwave dancefloor classics along with a few rarities. The 
 Snakepit started life over three decades ago at Worthing’s renowned indie
 -punk venue Carioca and it’s still going strong! Dress Code &#8211; BLACK
 .\nhttps://cellarartsclub.com/events/the-snakepit/
URL:https://cellarartsclub.com/events/the-snakepit/
END:VEVENT
END:VCALENDAR